BEGIN:VCALENDAR
VERSION:2.0
PRODID:-//wp-events-plugin.com//7.2.3.1//EN
BEGIN:VEVENT
UID:50@wlaotc.com
DTSTART;TZID=America/Los_Angeles:20231203T173000
DTEND;TZID=America/Los_Angeles:20231203T203000
DTSTAMP:20231115T233608Z
URL:https://wlaotc.com/events/wlaotc-holiday-party/
SUMMARY:WLAOTC Holiday Party
DESCRIPTION:Come and celebrate the holidays with your WLAOTC friends.\n\nGe
 t your holiday party tickets today!\n\nRSVP for the party. \n\nMembers- $
 40\nNon-members- $65\nPrice includes tax &amp\; tip.\n\nThe Cloverfield 33
 00 Airport Street\, Santa Monica\, CA. 90405\nFREE PARKING:  Behind resta
 urant and across the street\n\nBuffet of Salads\, Pastas\, Pizzas\, Desser
 t\, tea/coffee\nNo Host Bar\nCorkage fee = $25 per bottle\n\nGift Bags!! 
  Raffle door prize!\n\nHoliday Donation Collection to support Best Friend
 s NKLA\n\nWe will collect items at the holiday party:\n\n 	Gently used tow
 els and blankets\n 	Kong chew toys\n 	Gently used collars\, leashes\, and 
 harnesses\n 	Treats\, no pet food\n
ATTACH;FMTTYPE=image/jpeg:https://wlaotc.com/wp-content/uploads/2023/11/Ho
 lidayParty.jpg
CATEGORIES:WLAOTC Events
LOCATION:The Cloverfield Restaurant\, 3300 Airport Ave\, Santa Monica\, CA\
 , 90405\, United States
X-APPLE-STRUCTURED-LOCATION;VALUE=URI;X-ADDRESS=3300 Airport Ave\, Santa Mo
 nica\, CA\, 90405\, United States;X-APPLE-RADIUS=100;X-TITLE=The Cloverfie
 ld Restaurant:geo:0,0
END:VEVENT
BEGIN:VTIMEZONE
TZID:America/Los_Angeles
X-LIC-LOCATION:America/Los_Angeles
BEGIN:STANDARD
DTSTART:20231105T010000
TZOFFSETFROM:-0700
TZOFFSETTO:-0800
TZNAME:PST
END:STANDARD
END:VTIMEZONE
END:VCALENDAR